BEGIN:VCALENDAR
VERSION:2.0
PRODID:-//ATA Arizona - ECPv6.15.20//NONSGML v1.0//EN
CALSCALE:GREGORIAN
METHOD:PUBLISH
X-ORIGINAL-URL:https://ataarizona.com
X-WR-CALDESC:Events for ATA Arizona
REFRESH-INTERVAL;VALUE=DURATION:PT1H
X-Robots-Tag:noindex
X-PUBLISHED-TTL:PT1H
BEGIN:VTIMEZONE
TZID:America/Phoenix
BEGIN:STANDARD
TZOFFSETFROM:-0700
TZOFFSETTO:-0700
TZNAME:MST
DTSTART:20140101T000000
END:STANDARD
END:VTIMEZONE
BEGIN:VTIMEZONE
TZID:UTC
BEGIN:STANDARD
TZOFFSETFROM:+0000
TZOFFSETTO:+0000
TZNAME:UTC
DTSTART:20160101T000000
END:STANDARD
END:VTIMEZONE
BEGIN:VEVENT
DTSTART;VALUE=DATE:20201003
DTEND;VALUE=DATE:20201004
DTSTAMP:20260419T053943
CREATED:20170525T015948Z
LAST-MODIFIED:20191127T181631Z
UID:1487-1601683200-1601769599@ataarizona.com
SUMMARY:Legacy Certification at Camp in the Pines
DESCRIPTION:LOCATION:  Camp Shadow Pines (Heber\, AZ) during Southwest Camp in the Pines \nTIME during camp TBA (To Be Announced) \nFor pricing\, please see your instructor. Those who would like to audit the class can do so for free.  \nPLEASE PAY YOUR INSTRUCTOR DIRECTLY \n(Many instructors have prepaid this fee through paid in full Level 1\, 2\, or 3 CTI so check with your Program Director and have them verify in writing if your certification fee is included in your program.) \nPlease pick up the scoring sheets from your instructor for the Level 1 (white – yellow)\, Level 2 (camo – purple)\, Level 3 (blue – red). It is required to have your instructor’s permission to attend the certification camp. (ATTACHED BELOW TO PRINT ALSO) \n\nYou will be performing all forms and 1-steps (white – yellow) and self-defense (Camo to Red) from the ranks of your certification level. You will be performing all forms and 1-steps (white – yellow) and self-defense (Camo to Red)  from the ranks of your certification level.\nThere will be a fill-in-the-blank test on the 4 quadrants and the 10 class management skills and the Black Belt Attributes for memorization\nYou will be teaching life skills assigned to each appropriate level. For the life skills\, you need to know: What is it? What is it for? What does it look like?  And…How do you teach it?\nEach participant will teach two 3-minute segments based on the above-mentioned module worksheet. Be prepared to turn in 3 written class planners; one from each of the sample outlines on the scoring sheets.\nBring Ssahng Jeol Bong and Sparring Gear for the purpose of teaching those topics with structure.\nThis certification may have some new content from the Legacy Program that was recently released.\n\n\nWhat to Bring: \nInstructor Manual\, a pen\, paper for taking notes and 3 class planners as per the 3 modules for your certification level. Proof of CPR certification (online cert for $25). Level 1 & 2 & 3 must have documented a minimum of 100 hours at each level of assisting teaching time. \nClick these links to access the paperwork you’ll need: \nCertification worksheets level 1\, 2\, 3 \nRules and Guidelines \nTrainees\, please come prepared! You must turn in your CPR Certification Early!! Below is a list of places you can get CPR certified. You do not have to attend one of the listed locations this is a reference list for your convenience… \nRed Cross \nLessons.com \nOnline CPR Certification \nAmerican CPR.com \nCity of Chandler Fire and Medical \nCPR Training in Phoenix \nCPR Training in Goodyear and Scottsdale \nFirst Aid for Free \nCommunity and Wellness Safety of AZ (Tempe) \nAmerican Heart Association
URL:https://ataarizona.com/event/instructor-certification-training/
LOCATION:Camp Shadow Pines\, 300 AZ-260\, Heber\, AZ\, 85928\, United States
CATEGORIES:Instructor Education,Regional Events
END:VEVENT
BEGIN:VEVENT
DTSTART;TZID=America/Phoenix:20200419T090000
DTEND;TZID=America/Phoenix:20200419T170000
DTSTAMP:20260419T053943
CREATED:20200228T004254Z
LAST-MODIFIED:20200310T223941Z
UID:1959-1587286800-1587315600@ataarizona.com
SUMMARY:Legacy Academy by ATA International
DESCRIPTION:Join us the day after our Class ‘A’ Tournament for another special event: Legacy Academy training offered by ATA International. \nTaught by: Chief Master Scott Skiles \nFeaturing: Facilitator Certification/ Recertification & Legacy Member training for ALL levels. \nLocation: Lee’s ATA Martial Arts South Phoenix Campus\n3767 E. Broadway Rd. #A1 Phoenix\, AZ 85040 \nTime: 9am-5pm \nRegistration and more info available at: www.ataonline.com/legacyacademy
URL:https://ataarizona.com/event/legacy-academy-by-ata-international/
LOCATION:Lee’s South Phoenix Campus\, 3637 E. Broadway Rd. #A1\, Phoenix\, 85040\, United States
CATEGORIES:Elite Training,Instructor Education,Regional Events
END:VEVENT
BEGIN:VEVENT
DTSTART;TZID=UTC:20171216T130000
DTEND;TZID=UTC:20171216T140000
DTSTAMP:20260419T053943
CREATED:20171109T022338Z
LAST-MODIFIED:20171109T022338Z
UID:1632-1513429200-1513432800@ataarizona.com
SUMMARY:Train with Team EL3MENT
DESCRIPTION:They’ve earned their sport at the 2018 ESPN3 Invitational. Now it’s your chance to leaern from the 2017 Fall Nationals Team Sync Champions & 3rd Degree Black Belts\, Lucas Dodson & Brooks Kong-Sivert \nTRAIN WITH TEAM EL3MENT! \nJahng Bahng Tricking Seminars at a school near you! \nChoose a seminar or come to them all!\nFri\, Dec. 8th at Lee’s ATA South Phoenix Campus- 5pm Beginner or 7pm Advanced\nSat\, Dec. 9th at Legendary Martial Arts in Surprise 10:30am\nSat\, Dec. 16th at Maricopa ATA on Honeycutt 1pm\nThurs\, Dec. 21st at Inspiration Martial Arts on Bell at 6pm \nClass cost is a $10 donation to the Arizona ATA College Scholarship Fund \n\nWhen you hit ‘PROCEED TO PAYMENT’ you will be taken to a payment portal. You DO NOT need to have a Paypal account to check out. You can click the option to simply use a debit or credit card instead.
URL:https://ataarizona.com/event/train-with-team-el3ment-3/
LOCATION:Maricopa ATA Martial Arts\, 44400 W Honeycutt Ave\, Maricopa\, AZ\, 85138\, United States
CATEGORIES:Instructor Education,Tournaments
END:VEVENT
BEGIN:VEVENT
DTSTART;VALUE=DATE:20170506
DTEND;VALUE=DATE:20170507
DTSTAMP:20260419T053943
CREATED:20160504T183630Z
LAST-MODIFIED:20170426T035016Z
UID:1201-1494028800-1494115199@ataarizona.com
SUMMARY:Protech Certification Day
DESCRIPTION:Please note that this date has been moved from May 13th to May 6th instead! \nPlease note that this event has been relocated to the Lee’s West Phoenix Campus rather than the elementary school gym.\nThe address is: 3602 W. Thomas Rd. #15 Phoenix\, AZ 85019\nJust West of 35th Ave. on Thomas Rd.  \n \n \nAll Black & Recommended Red/Black Belts ages 13+ (or younger with instructor approval) are invited to attend these classes for instruction only to learn intensely up to 4 different Protech weapons. Black Belts ages 15+ with the appropriate rank may certify or recertify to teach these weapons. All people certifying or re-certifying must come with the form memorized. Bring your own weapon. If you need a weapon purchase that from your school. Limited weapons will be available for purchase on the day of the event. \nRegistration deadline: April 28th\, 2017 \nPlease register early so that we can prepare for this amazing Protech opportunity that is being offered to our Region. It has never been offered at such a discount and will never be again unless all Black Belts take advantage of this special opportunity. For questions please email leesatamartialarts@gmail.com
URL:https://ataarizona.com/event/protech/
LOCATION:Lee’s West Phoenix Campus\, 3602 W. Baseline Rd. #15\, Phoenix\, 85019\, United States
CATEGORIES:Instructor Education,Regional Events
END:VEVENT
BEGIN:VEVENT
DTSTART;TZID=America/Phoenix:20160521T120000
DTEND;TZID=America/Phoenix:20160521T200000
DTSTAMP:20260419T053943
CREATED:20151201T193727Z
LAST-MODIFIED:20151201T193727Z
UID:927-1463832000-1463860800@ataarizona.com
SUMMARY:Instructor Certification Day
DESCRIPTION:ATA Martial Arts Academy Level 1\, 2 & 3 Certification \nDATE: Level 1 & 2 & 3  SATURDAY\, MAY 21ST 12-8PM \nLOCATION:  Lee’s ATA Martial Arts West Phoenix – 3602 W. Thomas Road #15\, Phoenix\nLocation Tel # for directions or day of event questions 602-272-5733 \n  \nCOST:  Level 1 & 2 Certification $200.00   Level 3 Certification $399.00 \n(Many instructors have prepaid this fee through paid in full Level 1\, 2\, or 3 CTI so check with your Program Director and have them verify in writing if your certification fee is included in your program.) \n  \nPlease pick up the scoring sheets from your instructor for the Level 1 (white – yellow)\, Level 2 (camo – purple)\, Level 3 (blue – red).   It is required to have your instructor’s permission to attend the certification camp. \n  \n\nYou will be performing all forms\, 1-steps or sparring combinations from the ranks of your\nThere will be a fill-in-the-blank test on the 4 quadrants and the 10 class management skills and the Black Belt Attributes for\nYou will be teaching life skills assigned to each appropriate For the life skills you need to know: What is it? What is it for?   What does it look like? And how do you teach it?\nEach participant will teach two 3-minute segments based on the above mentioned module Be prepared to turn in 3 written class planners; one from each of the sample outlines on the scoring sheets.\nNO club weapons will be covered or NO Sparring will be covered or required.\nThe May Certification will have some new content from the Legacy Program that will be released in\n\n  \nWhat to Bring: \nInstructor Manual\, a pen\, paper for taking notes and 3 class planners as per the 3 modules for your certification level. Proof of CPR certification (online cert for $25).   Level 1 & 2 & 3 must have documented a minimum of 100 hours at each level of assisting teaching time.   Snacks/Water as no lunch breaks will be taken only two 15-minute break sessions. \nClick these links to access the paperwork you’ll need: \nRegistration Form \nCertification Worksheets \nRules and Guidelines \n  \nRegister Here:
URL:https://ataarizona.com/event/certification/
LOCATION:Lee’s West Phoenix Campus\, 3602 W. Baseline Rd. #15\, Phoenix\, 85019\, United States
CATEGORIES:Instructor Education,Regional Events
END:VEVENT
BEGIN:VEVENT
DTSTART;TZID=America/Phoenix:20160227T120000
DTEND;TZID=America/Phoenix:20160227T200000
DTSTAMP:20260419T053943
CREATED:20151201T192240Z
LAST-MODIFIED:20151201T192240Z
UID:924-1456574400-1456603200@ataarizona.com
SUMMARY:Gum Do Level 2 Seminar
DESCRIPTION:Host: Sr. Master Michelle Landgren-Lee \nInstructor: Sr. Master Vincent Raimondi \nLocation:\nLee’s ATA Martial Arts South Phoenix\n3767 E. Broadway Road #A1\nPhoenix\, AZ 85040 \nDate and Times:\nSaturday February 27\, 2016 12:00pm – 8:00pm \nCost: $279.00 for Certification – Weapon Included\n$129.00 for Recertification – Must bring your own weapon\n$25.00 Cancellation Fee after 2/20/16 \nSpecial Online Pricing!!! Register before 2/23/16 and receive pre-registration discount! \nRequirements: Must be 1st Degree Black Belt decided or higher\, 16 years of age or older and currently certified in Gum Do Level 1. \nTo register call Dolly Remphrey at ATA Headquarters at 866-282-8721 Ext: 2228\, or click the link below to register online. \n  \n[dt_button size=”medium” animation=”none” icon=”” icon_align=”left” color=”” link=”https://ataonline.wufoo.com/forms/protech-seminar-registration/” target_blank=”true”]REGISTER[/dt_button]
URL:https://ataarizona.com/event/gumdo/
LOCATION:Lee’s South Phoenix Campus\, 3637 E. Broadway Rd. #A1\, Phoenix\, 85040\, United States
CATEGORIES:Instructor Education,Regional Events
ATTACH;FMTTYPE=:
END:VEVENT
BEGIN:VEVENT
DTSTART;TZID=America/Phoenix:20150208T130000
DTEND;TZID=America/Phoenix:20150208T170000
DTSTAMP:20260419T053943
CREATED:20150106T191249Z
LAST-MODIFIED:20150106T191249Z
UID:671-1423400400-1423414800@ataarizona.com
SUMMARY:Instructor College by Dave Kovar
DESCRIPTION:We are welcoming out Kyoshi Dave Kovar as he presents “Instructor College.”  \nThis event is welcome to all Instructors in Region 118.  \nDave Kovar has condensed the essential elements of mat management into a special one-day program that will help any instructor upgrade their skills. These intensive training sessions will also cover other key areas such as The Five Keys to Superior Student Service\, Ethical Referral Strategies and The Core Four Retention Techniques.
URL:https://ataarizona.com/event/instructor-college-by-dave-kovar/
CATEGORIES:Instructor Education
ATTACH;FMTTYPE=image/jpeg:https://ataarizona.com/wp-content/uploads/2015/01/instructors-college-grey.jpg
END:VEVENT
END:VCALENDAR